BEGIN:VCALENDAR
VERSION:2.0
PRODID:-//WordPress NZ Training Courses - ECPv4.6.25//NONSGML v1.0//EN
CALSCALE:GREGORIAN
METHOD:PUBLISH
X-WR-CALNAME:WordPress NZ Training Courses
X-ORIGINAL-URL:http://wordpress-training.nz
X-WR-CALDESC:Events for WordPress NZ Training Courses
BEGIN:VEVENT
DTSTART;TZID=UTC+0:20171010T080000
DTEND;TZID=UTC+0:20190223T170000
DTSTAMP:20181222T165938
CREATED:20171009T231113Z
LAST-MODIFIED:20171009T231113Z
UID:11090-1507622400-1550941200@wordpress-training.nz
SUMMARY:Technology Conferences 2017
DESCRIPTION:Tellus eget condimentum rhoncus\nMaecenas tempus\, tellus eget condimentum rhoncus\, sem quam semper libero\, sit amet adipiscing sem neque sed ipsum. Nam quam nunc\, blandit vel\, luctus pulvinar\, hendrerit id\, lorem. Maecenas nec odio et ante tincidunt tempus. Donec vitae sapien ut libero venenatis faucibus. Nullam quis ante. \nEtiam sit amet orci eget eros faucibus tincidunt. Duis leo. Sed fringilla mauris sit amet nibh. Donec sodales sagittis magna. Sed consequat\, leo eget bibendum sodales\, augue velit cursus nunc\, quis gravida magna mi a libero. Fusce vulputate eleifend sapien. Vestibulum purus quam\, scelerisque ut\, mollis sed\, nonummy id\, metus. \n  \n \n  \nNullam accumsan lorem in dui. Cras ultricies mi eu turpis hendrerit fringilla. Vestibulum ante ipsum primis in faucibus orci luctus et ultrices posuere cubilia Curae; In ac dui quis mi consectetuer lacinia. Nam pretium turpis et arcu. Duis arcu tortor\, suscipit eget\, imperdiet nec\, imperdiet iaculis\, ipsum. Sed aliquam ultrices mauris. \n  \nNullam dictum felis eu pede mollis pretium. Integer tincidunt. Cras dapibus. Vivamus elementum semper nisi. Aenean vulputate eleifend tellus. Aenean leo ligula\, porttitor eu\, consequat vitae\, eleifend ac\, enim. Aliquam lorem ante\, dapibus in\, viverra quis\, feugiat a\, tellus. Phasellus viverra nulla ut metus varius laoreet. Quisque rutrum. Aenean imperdiet. Etiam ultricies nisi vel augue. Curabitur ullamcorper ultricies nisi. \n  \nNam eget dui. Etiam rhoncus. Maecenas tempus\, tellus eget condimentum rhoncus\, sem quam semper libero\, sit amet adipiscing sem neque sed ipsum. Nam quam nunc\, blandit vel\, luctus pulvinar\, hendrerit id\, lorem. Maecenas nec odio et ante tincidunt tempus. Donec vitae sapien ut libero venenatis faucibus. Nullam quis ante. Etiam sit amet orci eget eros faucibus tincidunt. Duis leo. Sed fringilla mauris sit amet nibh. \n  \n \n  \nInteger ante arcu\, accumsan a\, consectetuer eget\, posuere ut\, mauris. Praesent adipiscing. Phasellus ullamcorper ipsum rutrum nunc. Nunc nonummy metus. Vestibulum volutpat pretium libero. Cras id dui. Aenean ut eros et nisl sagittis vestibulum. Nullam nulla eros\, ultricies sit amet\, nonummy id\, imperdiet feugiat\, pede. Sed lectus. \n
URL:http://wordpress-training.nz/event/technology-conferences-2017-2/
LOCATION:Private: user-davidv-membership-wordpress-the-basics-type-expired
END:VEVENT
BEGIN:VEVENT
DTSTART;TZID=UTC+0:20171012T080000
DTEND;TZID=UTC+0:20190525T170000
DTSTAMP:20181222T165938
CREATED:20171010T000702Z
LAST-MODIFIED:20171010T000702Z
UID:11092-1507795200-1558803600@wordpress-training.nz
SUMMARY:Spring College Fair at Westwood High School
DESCRIPTION:Tellus eget condimentum rhoncus\nMaecenas tempus\, tellus eget condimentum rhoncus\, sem quam semper libero\, sit amet adipiscing sem neque sed ipsum. Nam quam nunc\, blandit vel\, luctus pulvinar\, hendrerit id\, lorem. Maecenas nec odio et ante tincidunt tempus. Donec vitae sapien ut libero venenatis faucibus. Nullam quis ante. \nEtiam sit amet orci eget eros faucibus tincidunt. Duis leo. Sed fringilla mauris sit amet nibh. Donec sodales sagittis magna. Sed consequat\, leo eget bibendum sodales\, augue velit cursus nunc\, quis gravida magna mi a libero. Fusce vulputate eleifend sapien. Vestibulum purus quam\, scelerisque ut\, mollis sed\, nonummy id\, metus. \n  \n \n  \nNullam accumsan lorem in dui. Cras ultricies mi eu turpis hendrerit fringilla. Vestibulum ante ipsum primis in faucibus orci luctus et ultrices posuere cubilia Curae; In ac dui quis mi consectetuer lacinia. Nam pretium turpis et arcu. Duis arcu tortor\, suscipit eget\, imperdiet nec\, imperdiet iaculis\, ipsum. Sed aliquam ultrices mauris. \nInteger ante arcu\, accumsan a\, consectetuer eget\, posuere ut\, mauris. Praesent adipiscing. Phasellus ullamcorper ipsum rutrum nunc. Nunc nonummy metus. Vestibulum volutpat pretium libero. Cras id dui. Aenean ut eros et nisl sagittis vestibulum. Nullam nulla eros\, ultricies sit amet\, nonummy id\, imperdiet feugiat\, pede. Sed lectus. \n
URL:http://wordpress-training.nz/event/spring-college-fair-at-westwood-high-school-2-2/
LOCATION:Private: user-davidv-membership-wordpress-the-basics-type-expired
END:VEVENT
BEGIN:VEVENT
DTSTART;TZID=UTC+0:20171101T080000
DTEND;TZID=UTC+0:20190126T170000
DTSTAMP:20181222T165938
CREATED:20171015T151854Z
LAST-MODIFIED:20171015T151854Z
UID:11093-1509523200-1548522000@wordpress-training.nz
SUMMARY:CSS Conference Amsterdam
DESCRIPTION:Phasellus viverra nulla ut metus varius laoreet\nInteger tincidunt. Cras dapibus. Vivamus elementum semper nisi. Aenean vulputate eleifend tellus. Aenean leo ligula\, porttitor eu\, consequat vitae\, eleifend ac\, enim. Aliquam lorem ante\, dapibus in\, viverra quis\, feugiat a\, tellus. Phasellus viverra nulla ut metus varius laoreet. Quisque rutrum. Aenean imperdiet. Etiam ultricies nisi vel augue. Curabitur ullamcorper ultricies nisi. Nam eget dui. Etiam rhoncus.Donec sodales sagittis magna. \n  \nSed consequat\, leo eget bibendum sodales\, augue velit cursus nunc\, quis gravida magna mi a libero. Fusce vulputate eleifend sapien. Vestibulum purus quam\, scelerisque ut\, mollis sed\, nonummy id\, metus. Nullam accumsan lorem in dui. Cras ultricies mi eu turpis hendrerit fringilla. Vestibulum ante ipsum primis in faucibus orci luctus et ultrices posuere cubilia Curae. \n\nIn ac dui quis mi consectetuer lacinia\nIn ac dui quis mi consectetuer lacinia. Nam pretium turpis et arcu. Duis arcu tortor\, suscipit eget\, imperdiet nec\, imperdiet iaculis\, ipsum.Maecenas tempus\, tellus eget condimentum rhoncus\, sem quam semper libero\, sit amet adipiscing sem neque sed ipsum. Nam quam nunc\, blandit vel\, luctus pulvinar\, hendrerit id\, lorem. Maecenas nec odio et ante tincidunt tempus. Donec vitae sapien ut libero venenatis faucibus. Nullam quis ante. Etiam sit amet orci eget eros faucibus tincidunt. Duis leo. Sed fringilla mauris sit amet nibh. \n  \n \n  \nNullam dictum felis eu pede mollis pretium. Integer tincidunt. Cras dapibus. Vivamus elementum semper nisi. Aenean vulputate eleifend tellus. Aenean leo ligula\, porttitor eu\, consequat vitae\, eleifend ac\, enim. Aliquam lorem ante\, dapibus in\, viverra quis\, feugiat a\, tellus. Phasellus viverra nulla ut metus varius laoreet. Quisque rutrum. Aenean imperdiet. Etiam ultricies nisi vel augue. Curabitur ullamcorper ultricies nisi. \nIn ac dui quis mi consectetuer lacinia\nNam eget dui. Etiam rhoncus. Maecenas tempus\, tellus eget condimentum rhoncus\, sem quam semper libero\, sit amet adipiscing sem neque sed ipsum. Nam quam nunc\, blandit vel\, luctus pulvinar\, hendrerit id\, lorem. Maecenas nec odio et ante tincidunt tempus. Donec vitae sapien ut libero venenatis faucibus. Nullam quis ante. Etiam sit amet orci eget eros faucibus tincidunt. Duis leo. Sed fringilla mauris sit amet nibh. \n
URL:http://wordpress-training.nz/event/developer-conference-amsterdam/
LOCATION:Private: user-davidv-membership-wordpress-the-basics-type-expired
CATEGORIES:CSS,Developer,Frontend,JavaScript,Tech
END:VEVENT
END:VCALENDAR